BEGIN:VCALENDAR
VERSION:2.0
PRODID:-//Your Organization//NONSGML v1.0//EN
BEGIN:VEVENT
UID:69e54e659496f
DTSTAMP:20260419T235133
DTSTART:20260427T170000
DTEND:20260502T230000
SUMMARY:Mikrofestivalen!
DESCRIPTION:Studentteateret Immaturus presenterer Mikrofestivalen 2026
LOCATION:Olav Kyrres gate 49
END:VEVENT
END:VCALENDAR