BEGIN:VCALENDAR
VERSION:2.0
PRODID:-//Your Organization//NONSGML v1.0//EN
BEGIN:VEVENT
UID:69e5629f0bcb9
DTSTAMP:20260420T011751
DTSTART:20260501T120000
DTEND:20260501T150000
SUMMARY:Drag Workshop med Haus of Friele
DESCRIPTION:Mikrofestivalen holder Drag Workshop med Haus of Friele
LOCATION:Cornerteateret
END:VEVENT
END:VCALENDAR